BEGIN:VCALENDAR
VERSION:2.0
PRODID:-//Ensemble Recherche - ECPv6.15.15//NONSGML v1.0//EN
CALSCALE:GREGORIAN
METHOD:PUBLISH
X-ORIGINAL-URL:https://www.ensemble-recherche.de
X-WR-CALDESC:Veranstaltungen für Ensemble Recherche
REFRESH-INTERVAL;VALUE=DURATION:PT1H
X-Robots-Tag:noindex
X-PUBLISHED-TTL:PT1H
BEGIN:VTIMEZONE
TZID:Europe/Helsinki
BEGIN:DAYLIGHT
TZOFFSETFROM:+0200
TZOFFSETTO:+0300
TZNAME:EEST
DTSTART:20250330T010000
END:DAYLIGHT
BEGIN:STANDARD
TZOFFSETFROM:+0300
TZOFFSETTO:+0200
TZNAME:EET
DTSTART:20251026T010000
END:STANDARD
BEGIN:DAYLIGHT
TZOFFSETFROM:+0200
TZOFFSETTO:+0300
TZNAME:EEST
DTSTART:20260329T010000
END:DAYLIGHT
BEGIN:STANDARD
TZOFFSETFROM:+0300
TZOFFSETTO:+0200
TZNAME:EET
DTSTART:20261025T010000
END:STANDARD
BEGIN:DAYLIGHT
TZOFFSETFROM:+0200
TZOFFSETTO:+0300
TZNAME:EEST
DTSTART:20270328T010000
END:DAYLIGHT
BEGIN:STANDARD
TZOFFSETFROM:+0300
TZOFFSETTO:+0200
TZNAME:EET
DTSTART:20271031T010000
END:STANDARD
END:VTIMEZONE
BEGIN:VEVENT
DTSTART;TZID=Europe/Helsinki:20260116T190000
DTEND;TZID=Europe/Helsinki:20260116T190000
DTSTAMP:20260420T150705
CREATED:20250828T094507Z
LAST-MODIFIED:20260108T214637Z
UID:13694-1768590000-1768590000@www.ensemble-recherche.de
SUMMARY:side by side @Hochschule für Musik Freiburg
DESCRIPTION:Mit Werken von\nİlyas Talha Güneş(UA)\, Anna Terokhina (UA) und Werke des Repertoires der Neuen Musik \n  \nENSEMBLE RECHERCHE\nAnja Clift\, Flöte\nEduardo Olloqui\, Oboe\nShizuyo Oka\, Klarinette\nKlaus Steffes-Holländer\, Klavier\nAdam Woodward\, Violine\nSofia von Atzingen\, Viola\nÅsa Åkerberg\, Violoncello \nAnna Terokhina\, Shamisen\nStudio für Elektronische Musik des Instituts für Neue Musik \nFriederike Scheunchen → Leitung \n  \nEintritt frei \n  \nGefördert von
URL:https://www.ensemble-recherche.de/event/side-by-side-hochschule-fuer-musik-freiburg-2
LOCATION:Hochschule für Musik Freiburg\, Kammermusiksaal\, Mendelssohn-Bartholdy-Platz 1\, Freiburg im Breisgau\, Baden-Württemberg\, 79102\, Germany
CATEGORIES:Education,Education-Aktivitäten
ATTACH;FMTTYPE=image/jpeg:https://www.ensemble-recherche.de/wp-content/uploads/ELZ-09006-scaled-e1754385647183.jpg
END:VEVENT
END:VCALENDAR