BEGIN:VCALENDAR
VERSION:2.0
PRODID:-//Ensemble Recherche - ECPv6.15.15//NONSGML v1.0//EN
CALSCALE:GREGORIAN
METHOD:PUBLISH
X-WR-CALNAME:Ensemble Recherche
X-ORIGINAL-URL:https://www.ensemble-recherche.de
X-WR-CALDESC:Veranstaltungen für Ensemble Recherche
REFRESH-INTERVAL;VALUE=DURATION:PT1H
X-Robots-Tag:noindex
X-PUBLISHED-TTL:PT1H
BEGIN:VTIMEZONE
TZID:Europe/Helsinki
BEGIN:DAYLIGHT
TZOFFSETFROM:+0200
TZOFFSETTO:+0300
TZNAME:EEST
DTSTART:20250330T010000
END:DAYLIGHT
BEGIN:STANDARD
TZOFFSETFROM:+0300
TZOFFSETTO:+0200
TZNAME:EET
DTSTART:20251026T010000
END:STANDARD
BEGIN:DAYLIGHT
TZOFFSETFROM:+0200
TZOFFSETTO:+0300
TZNAME:EEST
DTSTART:20260329T010000
END:DAYLIGHT
BEGIN:STANDARD
TZOFFSETFROM:+0300
TZOFFSETTO:+0200
TZNAME:EET
DTSTART:20261025T010000
END:STANDARD
BEGIN:DAYLIGHT
TZOFFSETFROM:+0200
TZOFFSETTO:+0300
TZNAME:EEST
DTSTART:20270328T010000
END:DAYLIGHT
BEGIN:STANDARD
TZOFFSETFROM:+0300
TZOFFSETTO:+0200
TZNAME:EET
DTSTART:20271031T010000
END:STANDARD
END:VTIMEZONE
BEGIN:VEVENT
DTSTART;TZID=Europe/Helsinki:20260208T190000
DTEND;TZID=Europe/Helsinki:20260208T190000
DTSTAMP:20260420T130939
CREATED:20250828T094413Z
LAST-MODIFIED:20250828T094413Z
UID:13690-1770577200-1770577200@www.ensemble-recherche.de
SUMMARY:Preisträgerkonzert @Eclat Stuttgart
DESCRIPTION:Mit Werken von\nYing Wang und Elnaz Seyedi \n  \nENSEMBLE RECHERCHE\nAnja Clift\, Flöte\nEduardo Olloqui\, Oboe\nShizuyo Oka\, Klarinette\nAdam Woodward\, Violine\nSofia von Atzingen\, Viola\nÅsa Åkerberg\, Violoncello \n 
URL:https://www.ensemble-recherche.de/event/preistraegerkonzert-eclat-stuttgart
CATEGORIES:Gastspiele
ATTACH;FMTTYPE=image/jpeg:https://www.ensemble-recherche.de/wp-content/uploads/cropped-ER2-klein_c_Peter-Gwiazda.jpg
END:VEVENT
END:VCALENDAR