BEGIN:VCALENDAR
VERSION:2.0
PRODID:-//Ensemble Recherche - ECPv6.15.15//NONSGML v1.0//EN
CALSCALE:GREGORIAN
METHOD:PUBLISH
X-WR-CALNAME:Ensemble Recherche
X-ORIGINAL-URL:https://www.ensemble-recherche.de
X-WR-CALDESC:Veranstaltungen für Ensemble Recherche
REFRESH-INTERVAL;VALUE=DURATION:PT1H
X-Robots-Tag:noindex
X-PUBLISHED-TTL:PT1H
BEGIN:VTIMEZONE
TZID:Europe/Helsinki
BEGIN:DAYLIGHT
TZOFFSETFROM:+0200
TZOFFSETTO:+0300
TZNAME:EEST
DTSTART:20250330T010000
END:DAYLIGHT
BEGIN:STANDARD
TZOFFSETFROM:+0300
TZOFFSETTO:+0200
TZNAME:EET
DTSTART:20251026T010000
END:STANDARD
BEGIN:DAYLIGHT
TZOFFSETFROM:+0200
TZOFFSETTO:+0300
TZNAME:EEST
DTSTART:20260329T010000
END:DAYLIGHT
BEGIN:STANDARD
TZOFFSETFROM:+0300
TZOFFSETTO:+0200
TZNAME:EET
DTSTART:20261025T010000
END:STANDARD
BEGIN:DAYLIGHT
TZOFFSETFROM:+0200
TZOFFSETTO:+0300
TZNAME:EEST
DTSTART:20270328T010000
END:DAYLIGHT
BEGIN:STANDARD
TZOFFSETFROM:+0300
TZOFFSETTO:+0200
TZNAME:EET
DTSTART:20271031T010000
END:STANDARD
END:VTIMEZONE
BEGIN:VEVENT
DTSTART;TZID=Europe/Helsinki:20260321T190000
DTEND;TZID=Europe/Helsinki:20260321T190000
DTSTAMP:20260420T164801
CREATED:20250828T094333Z
LAST-MODIFIED:20260317T150417Z
UID:13627-1774119600-1774119600@www.ensemble-recherche.de
SUMMARY:Sonderkonzert: Hear! we move
DESCRIPTION:Ein choreografiertes Klangbild über Umwelt\, Chaos und die Vision von Harmonie.\nFeuer\, Wasser\, Erde\, Luft\, ein klingender Kosmos und der Mensch mittendrin. \nEin gesamtsinnliches Konzerterlebnis für Menschen zwischen 5 und 105 über Natur\, Chaos und Zusammenklang mit Musik und Choreografie: über 100 Schüler*innen mit und ohne Höreinschränkung performen auf der Bühne des Konzerthauses Freiburg zu den Klängen des Freiburger Barockorchesters und des Ensemble Recherche: hEar! We move \nAlte und Neue Musik sowie ein eigens für dieses Projekt komponiertes Auftragswerk verschränken beide Ensembles und versinnbildlichen die Vision von Zusammenklang. \nBegleitet von einer wissenschaftlichen Studie durch das Freiburger Institut für Musikermedizin werden in dem vom BKM geförderten Projekt darüber hinaus neue Formate für höreingeschränkte Menschen und Cochlea-Implantat-Träger*innen durchgeführt\, um Musik nicht nur hör- sondern auch fühlbar zu machen. \n  \nMit einer Uraufführung von Kathrin Denner\, Werken von Katherine Balch\, Carola Bauckholt\, Rebecca Saunders und Werken barocker Komponist*innen \n  \nENSEMBLE RECHERCHE\nAnja Clift\, Flöte\nEduardo Olloqui\, Oboe\nShizuyo Oka\, Klarinette\nKlaus Steffes-Holländer\, Klavier\nChristian Dierstein\, Schlagzeug\nAdam Woodward\, Violine\nSofia von Atzingen\, Viola\nÅsa Åkerberg\, Violoncello\nLukas Nowok\, Klangregie \nFREIBURGER BAROCKORCHESTER \nSchülerinnen und Schüler aus Freiburg und Umgebung \n  \nIn Zusammenarbeit\nmit dem Freiburger Barockorchester und dem Freiburger Institut für Musikermedizin an der Hochschule für Musik Freiburg. \n  \nWeitere Informationen und Tickets unter reservix.de \n  \nGefördert\nvon der Beauftragten der Bundesregierung für Kultur und Medien.
URL:https://www.ensemble-recherche.de/event/sonderkonzert-miteinander-hoeren
LOCATION:Konzerthaus Freiburg\, Konrad-Adenauer-Platz 1\, Freiburg\, 79098\, Deutschland
CATEGORIES:Sonderkonzerte Freiburg
ATTACH;FMTTYPE=image/jpeg:https://www.ensemble-recherche.de/wp-content/uploads/Reservix-quadr_hear-we-move.jpg
END:VEVENT
END:VCALENDAR