BEGIN:VCALENDAR
VERSION:2.0
PRODID:-//Ensemble Recherche - ECPv6.15.20//NONSGML v1.0//EN
CALSCALE:GREGORIAN
METHOD:PUBLISH
X-WR-CALNAME:Ensemble Recherche
X-ORIGINAL-URL:https://www.ensemble-recherche.de
X-WR-CALDESC:Veranstaltungen für Ensemble Recherche
REFRESH-INTERVAL;VALUE=DURATION:PT1H
X-Robots-Tag:noindex
X-PUBLISHED-TTL:PT1H
BEGIN:VTIMEZONE
TZID:Europe/Helsinki
BEGIN:DAYLIGHT
TZOFFSETFROM:+0200
TZOFFSETTO:+0300
TZNAME:EEST
DTSTART:20240331T010000
END:DAYLIGHT
BEGIN:STANDARD
TZOFFSETFROM:+0300
TZOFFSETTO:+0200
TZNAME:EET
DTSTART:20241027T010000
END:STANDARD
BEGIN:DAYLIGHT
TZOFFSETFROM:+0200
TZOFFSETTO:+0300
TZNAME:EEST
DTSTART:20250330T010000
END:DAYLIGHT
BEGIN:STANDARD
TZOFFSETFROM:+0300
TZOFFSETTO:+0200
TZNAME:EET
DTSTART:20251026T010000
END:STANDARD
BEGIN:DAYLIGHT
TZOFFSETFROM:+0200
TZOFFSETTO:+0300
TZNAME:EEST
DTSTART:20260329T010000
END:DAYLIGHT
BEGIN:STANDARD
TZOFFSETFROM:+0300
TZOFFSETTO:+0200
TZNAME:EET
DTSTART:20261025T010000
END:STANDARD
END:VTIMEZONE
BEGIN:VEVENT
DTSTART;TZID=Europe/Helsinki:20251211T200000
DTEND;TZID=Europe/Helsinki:20251211T200000
DTSTAMP:20260424T162927
CREATED:20250828T094833Z
LAST-MODIFIED:20251204T141703Z
UID:13623-1765483200-1765483200@www.ensemble-recherche.de
SUMMARY:Farnaz Modarresifar - ABO 2
DESCRIPTION:© Mai Toyama \nDie Musik von Farnaz Modarresifar entsteht im Spannungsfeld zwischen Notation und Improvisation und lebt von einem engen\, vertrauensvollen Zusammenspiel zwischen ihr und den Musiker*innen\, mit denen sie auftritt. Ihre Kompositionen verbinden die persische Modalität mit einer zeitgenössischen Klangsprache\, die durch erweiterte Spieltechniken\, Klanggestik und eine sensible Arbeit mit Zeit\, Stille und Resonanz geprägt ist. Dabei entsteht eine vielschichtige Klangwelt\, die zum genauen Hinhören einlädt. \nIm Rahmen einer ersten Arbeitsphase zur Vorbereitung der Aufführung beim Genfer Festival Archipel haben das Ensemble Recherche und Farnaz Modarresifar eine gemeinsame musikalische Sprache erarbeitet und die Basis für eine intensive künstlerische Zusammenarbeit gelegt. Aufbauend auf diesem Dialog präsentieren Farnaz Modarresifar und das Ensemble Recherche im Jazzhaus neben bestehenden Werken auch die Uraufführung eines neuen Stücks für Sopran\, Santur und Recherche.  \nEine zentrale Rolle nimmt dabei die Stimme der Sopranistin Marie Soubestre ein\, deren enge\, langjährige Zusammenarbeit mit Farnaz Modarresifar ein eingespieltes\, sensibles Klangduo entstehen lässt. Ihre vokale Ausdruckskraft erweitert das Spektrum und fügt der Musik eine lebendige\, berührende Präsenz hinzu.  \nSo entsteht ein musikalischer Kosmos\, in dem individuelle Ausdrucksformen\, Improvisation und komponierte Struktur ebenso aufeinandertreffen wie westliche Avantgarde und persische Klangtraditionen. Das Programm schafft einen Raum für musikalische Kommunikation\, in dem unterschiedliche Erfahrungsräume miteinander resonieren – offen\, fragil\, sinnlich und präzise. \n  \nMit Werken von\nFarnaz Modarresifar (UA) \n  \nENSEMBLE RECHERCHE\nAnja Clift\, Flöte\nEduardo Olloqui\, Oboe\nShizuyo Oka\, Klarinette\nKlaus Steffes-Holländer\, Klavier\nChristian Dierstein\, Schlagzeug\nAdam Woodward\, Violine\nSofia von Atzingen\, Viola\nÅsa Åkerberg\, Violoncello\nLukas Nowok\, Klangregie \nMarie Soubestre\, Sopran \nFarnaz Modarresifar\, Santur \n  \nTickets\nerhältlich unter reservix.de\, beim Badische Zeitung Ticketservice und an der Abendkasse. \n  \nGefördert\nvon Impuls neue Musik\, der GVL und den Freunden des Ensemble Recherche e.V.
URL:https://www.ensemble-recherche.de/event/farnaz-modarresifar-abo-2
LOCATION:Jazzhaus Freiburg\, Schnewlinstraße 1\, Freiburg\, 79098\, Deutschland
CATEGORIES:ABO Freiburg
ATTACH;FMTTYPE=image/jpeg:https://www.ensemble-recherche.de/wp-content/uploads/Farnaz-Modarresifar-2024-Mai-Toyama-scaled-e1764856478201.jpg
END:VEVENT
BEGIN:VEVENT
DTSTART;TZID=Europe/Helsinki:20251217T180000
DTEND;TZID=Europe/Helsinki:20251217T180000
DTSTAMP:20260424T162927
CREATED:20251002T140828Z
LAST-MODIFIED:20251002T140828Z
UID:14375-1765994400-1765994400@www.ensemble-recherche.de
SUMMARY:Schlag 6 im Ensemblehaus!
DESCRIPTION:Das spontane Konzertformat von FBO und Ensemble Recherche im Ensemblehaus \n– eine kostenlose Veranstaltung der Stiftung Baden-Württembergische Ensemble-Akademie Freiburg \n  \nUnter dem Titel „Schlag 6 im Ensemblehaus“ gestalten Musiker*innen beider Ensembles als Solist*innen\, in kleinen oder größeren Gruppen in ihrem gemeinsamen Probendomizil einen kurzweiligen musikalischen Abend. \nBeginn: 18 Uhr. Überraschungsprogramm ohne Pause. Pay after.
URL:https://www.ensemble-recherche.de/event/schlag-6-im-ensemblehaus-28
LOCATION:Ensemblehaus Freiburg\, Schützenallee 72\, Freiburg i.Br.\, 79102\, Deutschland
CATEGORIES:Schlag 6 im Ensemblehaus
ATTACH;FMTTYPE=image/png:https://www.ensemble-recherche.de/wp-content/uploads/Schlag6.png
END:VEVENT
END:VCALENDAR