BEGIN:VCALENDAR
VERSION:2.0
PRODID:-//Ensemble Recherche - ECPv6.15.20//NONSGML v1.0//EN
CALSCALE:GREGORIAN
METHOD:PUBLISH
X-ORIGINAL-URL:https://www.ensemble-recherche.de/?lang=en
X-WR-CALDESC:Events for Ensemble Recherche
REFRESH-INTERVAL;VALUE=DURATION:PT1H
X-Robots-Tag:noindex
X-PUBLISHED-TTL:PT1H
BEGIN:VTIMEZONE
TZID:Europe/Helsinki
BEGIN:DAYLIGHT
TZOFFSETFROM:+0200
TZOFFSETTO:+0300
TZNAME:EEST
DTSTART:20240331T010000
END:DAYLIGHT
BEGIN:STANDARD
TZOFFSETFROM:+0300
TZOFFSETTO:+0200
TZNAME:EET
DTSTART:20241027T010000
END:STANDARD
BEGIN:DAYLIGHT
TZOFFSETFROM:+0200
TZOFFSETTO:+0300
TZNAME:EEST
DTSTART:20250330T010000
END:DAYLIGHT
BEGIN:STANDARD
TZOFFSETFROM:+0300
TZOFFSETTO:+0200
TZNAME:EET
DTSTART:20251026T010000
END:STANDARD
BEGIN:DAYLIGHT
TZOFFSETFROM:+0200
TZOFFSETTO:+0300
TZNAME:EEST
DTSTART:20260329T010000
END:DAYLIGHT
BEGIN:STANDARD
TZOFFSETFROM:+0300
TZOFFSETTO:+0200
TZNAME:EET
DTSTART:20261025T010000
END:STANDARD
END:VTIMEZONE
BEGIN:VEVENT
DTSTART;TZID=Europe/Helsinki:20251005T200000
DTEND;TZID=Europe/Helsinki:20251005T200000
DTSTAMP:20260424T132846
CREATED:20250828T155517Z
LAST-MODIFIED:20250909T135230Z
UID:13732-1759694400-1759694400@www.ensemble-recherche.de
SUMMARY:Klassik am Meer @Wilhelmshaven
DESCRIPTION:One of the most important forums for contemporary art with a supra-regional impact\, the Kunsthalle Wilhelmshaven offers an ideal performance space for the musical avant-garde. In the autumn of 2025\, artists of different generations will explore the shimmering cosmopolitan empire of mermaids in the exhibition Of Mermaids\, Border Crossers and an Aesthetics of the Fluid. Inspired by this\, Ensemble Recherche dives into flowing musical soundscapes with works such as John Cage’s Water Music and Toshio Hosokawa’s The Water of Lethe. \n  \nWith works by\nMárton Illés\, Bahar Royaee\, John Cage\, Michiko Fukazawa\, Salvatore Sciarrino\, Dai Fujikura and Toshio Hosokawa \n  \nENSEMBLE RECHERCHE\nShizuyo Oka\, clarinet\nKlaus Steffes-Holländer\, piano\nAdam Woodward\, violin\nSofia von Atzingen\, viola\nÅsa Åkerberg\, violoncello \n  \nTickets and more information here
URL:https://www.ensemble-recherche.de/event/klassik-am-meer-wilhelmshaven?lang=en
LOCATION:Baden-Württemberg
CATEGORIES:Guest Performances
ATTACH;FMTTYPE=image/jpeg:https://www.ensemble-recherche.de/wp-content/uploads/ER2-klein_c_Peter-Gwiazda-1-e1737554251350.jpg
END:VEVENT
END:VCALENDAR