BEGIN:VCALENDAR
VERSION:2.0
PRODID:-//Ensemble Recherche - ECPv6.15.20//NONSGML v1.0//EN
CALSCALE:GREGORIAN
METHOD:PUBLISH
X-ORIGINAL-URL:https://www.ensemble-recherche.de/?lang=en
X-WR-CALDESC:Events for Ensemble Recherche
REFRESH-INTERVAL;VALUE=DURATION:PT1H
X-Robots-Tag:noindex
X-PUBLISHED-TTL:PT1H
BEGIN:VTIMEZONE
TZID:Europe/Helsinki
BEGIN:DAYLIGHT
TZOFFSETFROM:+0200
TZOFFSETTO:+0300
TZNAME:EEST
DTSTART:20250330T010000
END:DAYLIGHT
BEGIN:STANDARD
TZOFFSETFROM:+0300
TZOFFSETTO:+0200
TZNAME:EET
DTSTART:20251026T010000
END:STANDARD
BEGIN:DAYLIGHT
TZOFFSETFROM:+0200
TZOFFSETTO:+0300
TZNAME:EEST
DTSTART:20260329T010000
END:DAYLIGHT
BEGIN:STANDARD
TZOFFSETFROM:+0300
TZOFFSETTO:+0200
TZNAME:EET
DTSTART:20261025T010000
END:STANDARD
BEGIN:DAYLIGHT
TZOFFSETFROM:+0200
TZOFFSETTO:+0300
TZNAME:EEST
DTSTART:20270328T010000
END:DAYLIGHT
BEGIN:STANDARD
TZOFFSETFROM:+0300
TZOFFSETTO:+0200
TZNAME:EET
DTSTART:20271031T010000
END:STANDARD
END:VTIMEZONE
BEGIN:VEVENT
DTSTART;TZID=Europe/Helsinki:20260321T190000
DTEND;TZID=Europe/Helsinki:20260321T190000
DTSTAMP:20260424T163141
CREATED:20250828T155131Z
LAST-MODIFIED:20251013T115428Z
UID:13756-1774119600-1774119600@www.ensemble-recherche.de
SUMMARY:Special concert: Hear! We move
DESCRIPTION:A choreographed soundscape about the environment\, chaos\, and the vision of harmony.\nFire\, water\, earth\, air\, a resonant cosmos\, and humanity at its heart. \nA holistic sensory concert experience for people between 5 and 105 years old about nature\, chaos\, and harmony with music and choreography: over 100 students with and without hearing impairments perform on the stage of the Freiburg Concert Hall to the sounds of the Freiburg Baroque Orchestra and the Ensemble Recherche: hEar! We move \nEarly and new music\, as well as a commissioned work composed especially for this project\, intertwine both ensembles and symbolize the vision of harmony. \nAccompanied by a scientific study by the Freiburg Institute for Musician Medicine\, the project\, funded by the Federal Ministry of Education and Research (BKM)\, also implements new formats for people with hearing impairments and cochlear implant users to make music not only audible but also tangible. \n  \nWith works by\nKathrin Denner\, Katharine Balch\, Carola Bauckholt\, Rebecca Saunders and other baroque composers. \n  \nENSEMBLE RECHERCHE\nAnja Clift\, flute\nEduardo Olloqui\, oboe\nShizuyo Oka\, clarinet\nKlaus Steffes-Holländer\, piano\nChristian Dierstein\, percussion\nAdam Woodward\, violin\nSofia von Atzingen\, viola\nÅsa Åkerberg\, violoncello\nLukas Nowok\, sound design \nFREIBURGER BAROCKORCHESTER \nStudents from and around Freiburg \n  \nIn cooperation\nwith the Freiburger Barockorchester and the Freiburger Institut für Musikermedizin at the MH Freiburg. \n  \nInformation and Tickets at reservix.de \n  \nSupported by\nthe Beauftragten der Bundesregierung für Kultur und Medien
URL:https://www.ensemble-recherche.de/event/miteinander-hoeren-fbo?lang=en
LOCATION:Konzerthaus Freiburg\, Konrad-Adenauer-Platz 1\, Freiburg\, 79098\, Deutschland
CATEGORIES:Special-Concerts Freiburg
ATTACH;FMTTYPE=image/jpeg:https://www.ensemble-recherche.de/wp-content/uploads/Reservix-quadr_hear-we-move.jpg
END:VEVENT
END:VCALENDAR