BEGIN:VCALENDAR
VERSION:2.0
PRODID:-//Ensemble Recherche - ECPv6.15.15//NONSGML v1.0//EN
CALSCALE:GREGORIAN
METHOD:PUBLISH
X-ORIGINAL-URL:https://www.ensemble-recherche.de/?lang=en
X-WR-CALDESC:Events for Ensemble Recherche
REFRESH-INTERVAL;VALUE=DURATION:PT1H
X-Robots-Tag:noindex
X-PUBLISHED-TTL:PT1H
BEGIN:VTIMEZONE
TZID:Europe/Helsinki
BEGIN:DAYLIGHT
TZOFFSETFROM:+0200
TZOFFSETTO:+0300
TZNAME:EEST
DTSTART:20240331T010000
END:DAYLIGHT
BEGIN:STANDARD
TZOFFSETFROM:+0300
TZOFFSETTO:+0200
TZNAME:EET
DTSTART:20241027T010000
END:STANDARD
BEGIN:DAYLIGHT
TZOFFSETFROM:+0200
TZOFFSETTO:+0300
TZNAME:EEST
DTSTART:20250330T010000
END:DAYLIGHT
BEGIN:STANDARD
TZOFFSETFROM:+0300
TZOFFSETTO:+0200
TZNAME:EET
DTSTART:20251026T010000
END:STANDARD
BEGIN:DAYLIGHT
TZOFFSETFROM:+0200
TZOFFSETTO:+0300
TZNAME:EEST
DTSTART:20260329T010000
END:DAYLIGHT
BEGIN:STANDARD
TZOFFSETFROM:+0300
TZOFFSETTO:+0200
TZNAME:EET
DTSTART:20261025T010000
END:STANDARD
END:VTIMEZONE
BEGIN:VEVENT
DTSTART;TZID=Europe/Helsinki:20251114T190000
DTEND;TZID=Europe/Helsinki:20251114T190000
DTSTAMP:20260420T184439
CREATED:20250828T155437Z
LAST-MODIFIED:20251021T142702Z
UID:13737-1763146800-1763146800@www.ensemble-recherche.de
SUMMARY:Étoiles à Neutrons @MH Freiburg
DESCRIPTION:With works by \nGérard Grisey \n  \nENSEMBLE RECHERCHE\nAnja Clift\, flute\nShizuyo Oka\, clarinet\nKlaus Steffes-Holländer\, piano\nAdam Woodward\, violin\nÅsa Åkerberg\, violoncello \nStudents of the percussion class of Håkon Stene\nStudio for Electronic Music of the Institute for New Music \n  \nAdmission free
URL:https://www.ensemble-recherche.de/event/etoiles-a-neutrons-mh-freiburg?lang=en
LOCATION:Hochschule für Musik Freiburg\, Wolfgang-Hoffmann-Saal\, Mendelssohn-Bartholdy-Platz 1\, Freiburg im Breisgau\, 79102\, Germany
ATTACH;FMTTYPE=image/jpeg:https://www.ensemble-recherche.de/wp-content/uploads/ER2-klein_c_Peter-Gwiazda-1-e1737554251350.jpg
END:VEVENT
BEGIN:VEVENT
DTSTART;TZID=Europe/Helsinki:20251118T180000
DTEND;TZID=Europe/Helsinki:20251118T180000
DTSTAMP:20260420T184439
CREATED:20251107T130312Z
LAST-MODIFIED:20251107T130548Z
UID:14469-1763488800-1763488800@www.ensemble-recherche.de
SUMMARY:Schlag 6 im Ensemblehaus!
DESCRIPTION:The spontaneous concert format of FBO and ensemble recherche in their rehearsal home \nA free event of the foundation of the Baden-Württembergische Ensemble-Akademie Freiburg \n  \nUnder the title “Schlag 6 im Ensemblehaus” (“Beat 6 in the Ensemble House”)\, musicians from both ensembles will create an entertaining musical evening as soloists\, in small or larger groups in their joint rehearsal home. \nBeginning: 6 p.m. Surprise program without intermission. Pay after.
URL:https://www.ensemble-recherche.de/event/schlag-6-im-ensemblehaus-19?lang=en
LOCATION:Ensemblehaus Freiburg\, Schützenallee 72\, Freiburg i.Br.\, 79102\, Deutschland
CATEGORIES:Schlag 6 at Ensemblehaus
ATTACH;FMTTYPE=image/png:https://www.ensemble-recherche.de/wp-content/uploads/Schlag6.png
END:VEVENT
BEGIN:VEVENT
DTSTART;TZID=Europe/Helsinki:20251121T203000
DTEND;TZID=Europe/Helsinki:20251121T203000
DTSTAMP:20260420T184439
CREATED:20250828T155401Z
LAST-MODIFIED:20251021T155505Z
UID:13739-1763757000-1763757000@www.ensemble-recherche.de
SUMMARY:They searched within him @rainy days Luxemburg
DESCRIPTION:Elnaz Seyedi\, Huihui Cheng and Ashkan Behzadi use different aesthetic languages to explore the understanding of the body – as sound\, as space and as a carrier of meaning. Seyedi creates delicate sound sculptures that can be experienced by the senses. Cheng designs sound bodies that tend to split due to their inner contradictions and can be perceived as phenomenological entities. Behzadi ultimately turns the body into a social and political symbol\, a carrier of collective memory\, mourning and resistance. \n  \nWith works by\nHuihui Cheng\, Elnaz Seyedi (UA) and Ashkan Behzadi \n  \nENSEMBLE RECHERCHE\nAnja Clift\, flute\nEduardo Olloqui\, oboe\nShizuyo Oka\, clarinet\nKlaus Steffes-Holländer\, piano\nChristian Dierstein\, percussion\nAdam Woodward\, violin\nSofia von Atzingen\, viola\nÅsa Åkerberg\, violoncello\nLukas Nowok\, sound design \n  \nTickets and more information here. \n  \nSupported by\nFriends of Ensemble Recherche e. V.
URL:https://www.ensemble-recherche.de/event/they-searched-within-him-rainy-days-luxemburg?lang=en
LOCATION:Salle de Musique de Chambre\, Philharmonie Luxembourg\, 1 Pl. de l'Europe\, Clausen\, 1499\, Luxembourg
CATEGORIES:Guest Performances
ATTACH;FMTTYPE=image/jpeg:https://www.ensemble-recherche.de/wp-content/uploads/cropped-ER2-klein_c_Peter-Gwiazda.jpg
END:VEVENT
END:VCALENDAR