BEGIN:VCALENDAR
VERSION:2.0
PRODID:-//Ensemble Recherche - ECPv6.15.20//NONSGML v1.0//EN
CALSCALE:GREGORIAN
METHOD:PUBLISH
X-ORIGINAL-URL:https://www.ensemble-recherche.de/?lang=en
X-WR-CALDESC:Events for Ensemble Recherche
REFRESH-INTERVAL;VALUE=DURATION:PT1H
X-Robots-Tag:noindex
X-PUBLISHED-TTL:PT1H
BEGIN:VTIMEZONE
TZID:Europe/Helsinki
BEGIN:DAYLIGHT
TZOFFSETFROM:+0200
TZOFFSETTO:+0300
TZNAME:EEST
DTSTART:20250330T010000
END:DAYLIGHT
BEGIN:STANDARD
TZOFFSETFROM:+0300
TZOFFSETTO:+0200
TZNAME:EET
DTSTART:20251026T010000
END:STANDARD
BEGIN:DAYLIGHT
TZOFFSETFROM:+0200
TZOFFSETTO:+0300
TZNAME:EEST
DTSTART:20260329T010000
END:DAYLIGHT
BEGIN:STANDARD
TZOFFSETFROM:+0300
TZOFFSETTO:+0200
TZNAME:EET
DTSTART:20261025T010000
END:STANDARD
BEGIN:DAYLIGHT
TZOFFSETFROM:+0200
TZOFFSETTO:+0300
TZNAME:EEST
DTSTART:20270328T010000
END:DAYLIGHT
BEGIN:STANDARD
TZOFFSETFROM:+0300
TZOFFSETTO:+0200
TZNAME:EET
DTSTART:20271031T010000
END:STANDARD
END:VTIMEZONE
BEGIN:VEVENT
DTSTART;TZID=Europe/Helsinki:20260109T180000
DTEND;TZID=Europe/Helsinki:20260109T180000
DTSTAMP:20260424T150445
CREATED:20250915T091423Z
LAST-MODIFIED:20250915T091423Z
UID:13809-1767981600-1767981600@www.ensemble-recherche.de
SUMMARY:Schlag 6 im Ensemblehaus!
DESCRIPTION:The spontaneous concert format of FBO and ensemble recherche in their rehearsal home \nA free event of the foundation of the Baden-Württembergische Ensemble-Akademie Freiburg \n  \nUnder the title “Schlag 6 im Ensemblehaus” (“Beat 6 in the Ensemble House”)\, musicians from both ensembles will create an entertaining musical evening as soloists\, in small or larger groups in their joint rehearsal home. \nBeginning: 6 p.m. Surprise program without intermission. Pay after.
URL:https://www.ensemble-recherche.de/event/schlag-6-im-ensemblehaus-14?lang=en
LOCATION:Ensemblehaus Freiburg\, Schützenallee 72\, Freiburg i.Br.\, 79102\, Deutschland
CATEGORIES:Schlag 6 at Ensemblehaus
ATTACH;FMTTYPE=image/png:https://www.ensemble-recherche.de/wp-content/uploads/Schlag6.png
END:VEVENT
BEGIN:VEVENT
DTSTART;TZID=Europe/Helsinki:20260116T190000
DTEND;TZID=Europe/Helsinki:20260116T190000
DTSTAMP:20260424T150445
CREATED:20250828T155315Z
LAST-MODIFIED:20260108T215219Z
UID:13746-1768590000-1768590000@www.ensemble-recherche.de
SUMMARY:side by side @ MH Freiburg
DESCRIPTION:With works by\nİlyas Talha Güneş\, Anna Terokhina and other repertoire works \n  \nENSEMBLE RECHERCHE\nAnja Clift\, flute\nEduardo Olloqui\, oboe\nShizuyo Oka\, clarinet\nKlaus Steffes-Holländer\, piano\nAdam Woodward\, violin\nSofia von Atzingen\, viola\nÅsa Åkerberg\, violoncello \nAnna Terokhina\, Shamisen\nStudio for electronic music of the Institute for New Musik \nFriederike Scheunchen → Conductor \n  \nAdmission free \n  \nSupported by
URL:https://www.ensemble-recherche.de/event/side-by-side-mh-freiburg-2?lang=en
LOCATION:Hochschule für Musik Freiburg\, Kammermusiksaal\, Mendelssohn-Bartholdy-Platz 1\, Freiburg im Breisgau\, Baden-Württemberg\, 79102\, Germany
CATEGORIES:Education,Education-Activities
ATTACH;FMTTYPE=image/jpeg:https://www.ensemble-recherche.de/wp-content/uploads/ELZ-09006-scaled-e1754385647183.jpg
END:VEVENT
BEGIN:VEVENT
DTSTART;TZID=Europe/Helsinki:20260121T180000
DTEND;TZID=Europe/Helsinki:20260121T180000
DTSTAMP:20260424T150445
CREATED:20251002T142247Z
LAST-MODIFIED:20251007T091103Z
UID:14385-1769018400-1769018400@www.ensemble-recherche.de
SUMMARY:Schlag 6 im Ensemblehaus!
DESCRIPTION:The spontaneous concert format of FBO and ensemble recherche in their rehearsal home \nA free event of the foundation of the Baden-Württembergische Ensemble-Akademie Freiburg \n  \nUnder the title “Schlag 6 im Ensemblehaus” (“Beat 6 in the Ensemble House”)\, musicians from both ensembles will create an entertaining musical evening as soloists\, in small or larger groups in their joint rehearsal home. \nBeginning: 6 p.m. Surprise program without intermission. Pay after.
URL:https://www.ensemble-recherche.de/event/schlag-6-im-ensemblehaus-16?lang=en
LOCATION:Ensemblehaus Freiburg\, Schützenallee 72\, Freiburg i.Br.\, 79102\, Deutschland
CATEGORIES:Schlag 6 at Ensemblehaus
ATTACH;FMTTYPE=image/png:https://www.ensemble-recherche.de/wp-content/uploads/Schlag6.png
END:VEVENT
BEGIN:VEVENT
DTSTART;TZID=Europe/Helsinki:20260123T193000
DTEND;TZID=Europe/Helsinki:20260123T193000
DTSTAMP:20260424T150445
CREATED:20251022T093857Z
LAST-MODIFIED:20251022T093935Z
UID:13821-1769196600-1769196600@www.ensemble-recherche.de
SUMMARY:out of the box - Rathauskonzerte @Leonberg
DESCRIPTION:With works by\nHelmut Lachenmann\, Mirela Ivičević\, Vito Žuraj\, Arvo Pärt\, Walther Erbacher and Hans Thomalla \n  \nENSEMBLE RECHERCHE\nShizuyo Oka\, clarinet\nKlaus Steffes-Holländer\, piano\nÅsa Åkerberg\, violoncello \n  \nTickets available here
URL:https://www.ensemble-recherche.de/event/out-of-the-box-rathauskonzerte-leonberg?lang=en
LOCATION:Rathaus Leonberg\, Belforter Platz 1\, 71229 Leonberg\, Deutschland
CATEGORIES:Guest Performances
ATTACH;FMTTYPE=image/jpeg:https://www.ensemble-recherche.de/wp-content/uploads/BENEFiZiVAL-2021-Kulturgesichter0761_032_by-Felix_Groteloh-e1756155099433.jpg
END:VEVENT
END:VCALENDAR