BEGIN:VCALENDAR
VERSION:2.0
PRODID:-//Ensemble Recherche - ECPv6.15.15//NONSGML v1.0//EN
CALSCALE:GREGORIAN
METHOD:PUBLISH
X-ORIGINAL-URL:https://www.ensemble-recherche.de/?lang=en
X-WR-CALDESC:Events for Ensemble Recherche
REFRESH-INTERVAL;VALUE=DURATION:PT1H
X-Robots-Tag:noindex
X-PUBLISHED-TTL:PT1H
BEGIN:VTIMEZONE
TZID:Europe/Helsinki
BEGIN:DAYLIGHT
TZOFFSETFROM:+0200
TZOFFSETTO:+0300
TZNAME:EEST
DTSTART:20250330T010000
END:DAYLIGHT
BEGIN:STANDARD
TZOFFSETFROM:+0300
TZOFFSETTO:+0200
TZNAME:EET
DTSTART:20251026T010000
END:STANDARD
BEGIN:DAYLIGHT
TZOFFSETFROM:+0200
TZOFFSETTO:+0300
TZNAME:EEST
DTSTART:20260329T010000
END:DAYLIGHT
BEGIN:STANDARD
TZOFFSETFROM:+0300
TZOFFSETTO:+0200
TZNAME:EET
DTSTART:20261025T010000
END:STANDARD
BEGIN:DAYLIGHT
TZOFFSETFROM:+0200
TZOFFSETTO:+0300
TZNAME:EEST
DTSTART:20270328T010000
END:DAYLIGHT
BEGIN:STANDARD
TZOFFSETFROM:+0300
TZOFFSETTO:+0200
TZNAME:EET
DTSTART:20271031T010000
END:STANDARD
END:VTIMEZONE
BEGIN:VEVENT
DTSTART;VALUE=DATE:20260227
DTEND;VALUE=DATE:20260302
DTSTAMP:20260420T133742
CREATED:20250825T202546Z
LAST-MODIFIED:20250828T155150Z
UID:13753-1772150400-1772409599@www.ensemble-recherche.de
SUMMARY:Workshop HdK Bern @Freiburg
DESCRIPTION:
URL:https://www.ensemble-recherche.de/event/workshop-hdk-bern-freiburg?lang=en
CATEGORIES:Education
ATTACH;FMTTYPE=image/jpeg:https://www.ensemble-recherche.de/wp-content/uploads/ER-Instrumente-klein_c_Peter-Gwiazda.jpg
END:VEVENT
BEGIN:VEVENT
DTSTART;TZID=Europe/Helsinki:20260303T180000
DTEND;TZID=Europe/Helsinki:20260303T180000
DTSTAMP:20260420T133742
CREATED:20251007T090019Z
LAST-MODIFIED:20251007T090019Z
UID:14393-1772560800-1772560800@www.ensemble-recherche.de
SUMMARY:Schlag 6 im Ensemblehaus!
DESCRIPTION:The spontaneous concert format of FBO and ensemble recherche in their rehearsal home \nA free event of the foundation of the Baden-Württembergische Ensemble-Akademie Freiburg \n  \nUnder the title “Schlag 6 im Ensemblehaus” (“Beat 6 in the Ensemble House”)\, musicians from both ensembles will create an entertaining musical evening as soloists\, in small or larger groups in their joint rehearsal home. \nBeginning: 6 p.m. Surprise program without intermission. Pay after.
URL:https://www.ensemble-recherche.de/event/schlag-6-im-ensemblehaus-18?lang=en
LOCATION:Ensemblehaus Freiburg\, Schützenallee 72\, Freiburg i.Br.\, 79102\, Deutschland
CATEGORIES:Schlag 6 at Ensemblehaus
ATTACH;FMTTYPE=image/png:https://www.ensemble-recherche.de/wp-content/uploads/Schlag6.png
END:VEVENT
BEGIN:VEVENT
DTSTART;TZID=Europe/Helsinki:20260321T190000
DTEND;TZID=Europe/Helsinki:20260321T190000
DTSTAMP:20260420T133742
CREATED:20250828T155131Z
LAST-MODIFIED:20251013T115428Z
UID:13756-1774119600-1774119600@www.ensemble-recherche.de
SUMMARY:Special concert: Hear! We move
DESCRIPTION:A choreographed soundscape about the environment\, chaos\, and the vision of harmony.\nFire\, water\, earth\, air\, a resonant cosmos\, and humanity at its heart. \nA holistic sensory concert experience for people between 5 and 105 years old about nature\, chaos\, and harmony with music and choreography: over 100 students with and without hearing impairments perform on the stage of the Freiburg Concert Hall to the sounds of the Freiburg Baroque Orchestra and the Ensemble Recherche: hEar! We move \nEarly and new music\, as well as a commissioned work composed especially for this project\, intertwine both ensembles and symbolize the vision of harmony. \nAccompanied by a scientific study by the Freiburg Institute for Musician Medicine\, the project\, funded by the Federal Ministry of Education and Research (BKM)\, also implements new formats for people with hearing impairments and cochlear implant users to make music not only audible but also tangible. \n  \nWith works by\nKathrin Denner\, Katharine Balch\, Carola Bauckholt\, Rebecca Saunders and other baroque composers. \n  \nENSEMBLE RECHERCHE\nAnja Clift\, flute\nEduardo Olloqui\, oboe\nShizuyo Oka\, clarinet\nKlaus Steffes-Holländer\, piano\nChristian Dierstein\, percussion\nAdam Woodward\, violin\nSofia von Atzingen\, viola\nÅsa Åkerberg\, violoncello\nLukas Nowok\, sound design \nFREIBURGER BAROCKORCHESTER \nStudents from and around Freiburg \n  \nIn cooperation\nwith the Freiburger Barockorchester and the Freiburger Institut für Musikermedizin at the MH Freiburg. \n  \nInformation and Tickets at reservix.de \n  \nSupported by\nthe Beauftragten der Bundesregierung für Kultur und Medien
URL:https://www.ensemble-recherche.de/event/miteinander-hoeren-fbo?lang=en
LOCATION:Konzerthaus Freiburg\, Konrad-Adenauer-Platz 1\, Freiburg\, 79098\, Deutschland
CATEGORIES:Special-Concerts Freiburg
ATTACH;FMTTYPE=image/jpeg:https://www.ensemble-recherche.de/wp-content/uploads/Reservix-quadr_hear-we-move.jpg
END:VEVENT
BEGIN:VEVENT
DTSTART;TZID=Europe/Helsinki:20260328T200000
DTEND;TZID=Europe/Helsinki:20260328T200000
DTSTAMP:20260420T133742
CREATED:20260210T092523Z
LAST-MODIFIED:20260210T094523Z
UID:14863-1774728000-1774728000@www.ensemble-recherche.de
SUMMARY:Tanz: Lachenmann - ABO 3
DESCRIPTION:Helmut Lachenmann’s 90th birthday on 27th November 2025 is not just an excuse for celebration\, but also a reason for a special\, experimental jubilee concert. \nLachenmann and his music have accompanied our ensemble for over fourty years. It has challenged us\, inspired us and always pushed us to redefine our limits. His music is radical and strikes a unique balance between corporeality and analytical precision and between intuition and contemplation. \nWith the choreographer Emi Miyoshi and the SHIBUI KOLLEKTIV we endeavour to shine a new light on Lachenmann’s music: The presence of dancers and movers on stage illuminates the corporeal dimension o fLachenmann’s music. And Lachenmann’s music provides inspiration for the creation of a new choreography. \nLachenmann’s abstract musical language offers a plethora of possibilities for choreography\, not least because the musicians’ bodies themselves are involved in providing impulses in the music. Works such as Mouvement\, which explores the final twitches and movements before stiffening in death\, set movement and resistance in a charged relationship. One observes similar characteristics in solo pieces such as Guero or Pression and in ensemble pieces like Trio Fluido\, which have a choreographical component to them. Of course\, these compositions can simply be listened to. However\, at the same time\, it is clear that they are also physically and choreographically structured processes. \nIn her own language of movement\, Emi Miyoshi confronts Lachenmann‘s music. The music and dance meet as equals in this project; neither is subservient to the other. Both artists are unabashedly strong\, and the two art forms speak both on their own as well as together. \nThis project is a continuation of the learning process which Lachenmann’s music always demands. At the same time\, it is an invitation for a new learning process. We don’t yet know where this path will take us\, but what we do know is that it is a path which can only be found through cooperation and collaboration – between artists\, between sound and bodies\, between the performers and the audience. \n  \nWith works by\nHelmut Lachenmann \n  \nENSEMBLE RECHERCHE\nAnja Clift\, flute\nEduardo Olloqui\, oboe\nShizuyo Oka\, clarinet\nKlaus Steffes-Holländer\, piano\nChristian Dierstein\, percussion\nAdam Woodward\, violin\nSofia von Atzingen\, viola\nÅsa Åkerberg\, violoncello\nLukas Nowok\, sound design \nSHIBUI KOLLEKTIV\nArtistic Direction | Choreography: Emi Miyoshi\nDancers: Sophia Barr\, Marcella Centenero\, Melissa Kieffer\nCostume: Emi Miyoshi\nInstallation: Paula Mierzowsky\nTechnical Direction: Domitile Guinchard\nLighting: Steffen Melch\nProject Management | Education and Outreach : Anna Kempin\nPhoto | Video: Marc Doradzillo \nProduction: Shibui Kollektiv and Ensemble Recherche \n  \nTickets\navailable at reservix.de\, at Badische Zeitung Ticketservice and at the box office. \n  \nSupported by \nRegional Association of Independent Dance and Theater Professionals (LaFT BW) and Friends of Ensemble Recherche e. V. \n \nIn cooperation\nwith the SHIBUI Kollektiv and E-Werk Freiburg
URL:https://www.ensemble-recherche.de/event/tanz-lachenmann-abo-3-2?lang=en
LOCATION:E-Werk Freiburg\, Eschholzstr.77\, Freiburg i.Br.\, 79106\, Deutschland
CATEGORIES:Subscription Freiburg
ATTACH;FMTTYPE=image/jpeg:https://www.ensemble-recherche.de/wp-content/uploads/ShibuiER-Lachemann_ShootingDez25©Doradzillo_3588-scaled.jpg
END:VEVENT
BEGIN:VEVENT
DTSTART;TZID=Europe/Helsinki:20260329T200000
DTEND;TZID=Europe/Helsinki:20260329T200000
DTSTAMP:20260420T133742
CREATED:20250828T155047Z
LAST-MODIFIED:20260210T094603Z
UID:13760-1774814400-1774814400@www.ensemble-recherche.de
SUMMARY:Tanz: Lachenmann - ABO 3
DESCRIPTION:Helmut Lachenmann’s 90th birthday on 27th November 2025 is not just an excuse for celebration\, but also a reason for a special\, experimental jubilee concert. \nLachenmann and his music have accompanied our ensemble for over fourty years. It has challenged us\, inspired us and always pushed us to redefine our limits. His music is radical and strikes a unique balance between corporeality and analytical precision and between intuition and contemplation. \nWith the choreographer Emi Miyoshi and the SHIBUI KOLLEKTIV we endeavour to shine a new light on Lachenmann’s music: The presence of dancers and movers on stage illuminates the corporeal dimension o fLachenmann’s music. And Lachenmann’s music provides inspiration for the creation of a new choreography. \nLachenmann’s abstract musical language offers a plethora of possibilities for choreography\, not least because the musicians’ bodies themselves are involved in providing impulses in the music. Works such as Mouvement\, which explores the final twitches and movements before stiffening in death\, set movement and resistance in a charged relationship. One observes similar characteristics in solo pieces such as Guero or Pression and in ensemble pieces like Trio Fluido\, which have a choreographical component to them. Of course\, these compositions can simply be listened to. However\, at the same time\, it is clear that they are also physically and choreographically structured processes. \nIn her own language of movement\, Emi Miyoshi confronts Lachenmann‘s music. The music and dance meet as equals in this project; neither is subservient to the other. Both artists are unabashedly strong\, and the two art forms speak both on their own as well as together. \nThis project is a continuation of the learning process which Lachenmann’s music always demands. At the same time\, it is an invitation for a new learning process. We don’t yet know where this path will take us\, but what we do know is that it is a path which can only be found through cooperation and collaboration – between artists\, between sound and bodies\, between the performers and the audience. \n  \nWith works by\nHelmut Lachenmann \n  \nENSEMBLE RECHERCHE\nAnja Clift\, flute\nEduardo Olloqui\, oboe\nShizuyo Oka\, clarinet\nKlaus Steffes-Holländer\, piano\nChristian Dierstein\, percussion\nAdam Woodward\, violin\nSofia von Atzingen\, viola\nÅsa Åkerberg\, violoncello\nLukas Nowok\, sound design \nSHIBUI KOLLEKTIV\nArtistic Direction | Choreography: Emi Miyoshi\nDancers: Sophia Barr\, Marcella Centenero\, Melissa Kieffer\nCostume: Emi Miyoshi\nInstallation: Paula Mierzowsky\nTechnical Direction: Domitile Guinchard\nLighting: Steffen Melch\nProject Management | Education and Outreach : Anna Kempin\nPhoto | Video: Marc Doradzillo \nProduction: Shibui Kollektiv and Ensemble Recherche \n  \nTickets\navailable at reservix.de\, at Badische Zeitung Ticketservice and at the box office. \n  \nSupported by \nRegional Association of Independent Dance and Theater Professionals (LaFT BW) and Friends of Ensemble Recherche e. V. \n \nIn cooperation\nwith the SHIBUI Kollektiv and E-Werk Freiburg
URL:https://www.ensemble-recherche.de/event/tanz-lachenmann-abo-3?lang=en
LOCATION:E-Werk Freiburg\, Eschholzstr.77\, Freiburg i.Br.\, 79106\, Deutschland
CATEGORIES:Subscription Freiburg
ATTACH;FMTTYPE=image/jpeg:https://www.ensemble-recherche.de/wp-content/uploads/ShibuiER-Lachemann_ShootingDez25©Doradzillo_3588-scaled.jpg
END:VEVENT
END:VCALENDAR